BEGIN:VCALENDAR
VERSION:2.0
PRODID:-//Ernest Mario School of Pharmacy - ECPv6.11.2//NONSGML v1.0//EN
CALSCALE:GREGORIAN
METHOD:PUBLISH
X-ORIGINAL-URL:https://pharmacy.rutgers.edu
X-WR-CALDESC:Events for Ernest Mario School of Pharmacy
REFRESH-INTERVAL;VALUE=DURATION:PT1H
X-Robots-Tag:noindex
X-PUBLISHED-TTL:PT1H
BEGIN:VTIMEZONE
TZID:UTC
BEGIN:STANDARD
TZOFFSETFROM:+0000
TZOFFSETTO:+0000
TZNAME:UTC
DTSTART:20250101T000000
END:STANDARD
END:VTIMEZONE
BEGIN:VEVENT
DTSTART;TZID=UTC:20250912T180000
DTEND;TZID=UTC:20250912T213000
DTSTAMP:20260422T084803
CREATED:20250703T161928Z
LAST-MODIFIED:20250707T122754Z
UID:24184-1757700000-1757712600@pharmacy.rutgers.edu
SUMMARY:Ernest Mario School of Pharmacy 2025 All-Alumni Reunion
DESCRIPTION:Parking will be available in Lots 58 & 58A\, and all vehicles must be registered with the University.\nTo register for parking\, please click HERE. \nWe look forward to seeing you.
URL:https://pharmacy.rutgers.edu/event/ernest-mario-school-of-pharmacy-2025-all-alumni-reunion/
LOCATION:Ernest Mario School of Pharmacy\, John L. Colaizzi Atrium\, 160 Frelinhuysen Road\, Piscataway\, NJ\, 08854\, United States
END:VEVENT
END:VCALENDAR